BEGIN:VCALENDAR
VERSION:2.0
PRODID:-//Ali Mehedi - ECPv6.15.20//NONSGML v1.0//EN
CALSCALE:GREGORIAN
METHOD:PUBLISH
X-ORIGINAL-URL:https://alimehedi.com
X-WR-CALDESC:Events for Ali Mehedi
REFRESH-INTERVAL;VALUE=DURATION:PT1H
X-Robots-Tag:noindex
X-PUBLISHED-TTL:PT1H
BEGIN:VTIMEZONE
TZID:UTC
BEGIN:STANDARD
TZOFFSETFROM:+0000
TZOFFSETTO:+0000
TZNAME:UTC
DTSTART:20230101T000000
END:STANDARD
END:VTIMEZONE
BEGIN:VTIMEZONE
TZID:America/New_York
BEGIN:DAYLIGHT
TZOFFSETFROM:-0500
TZOFFSETTO:-0400
TZNAME:EDT
DTSTART:20240310T070000
END:DAYLIGHT
BEGIN:STANDARD
TZOFFSETFROM:-0400
TZOFFSETTO:-0500
TZNAME:EST
DTSTART:20241103T060000
END:STANDARD
BEGIN:DAYLIGHT
TZOFFSETFROM:-0500
TZOFFSETTO:-0400
TZNAME:EDT
DTSTART:20250309T070000
END:DAYLIGHT
BEGIN:STANDARD
TZOFFSETFROM:-0400
TZOFFSETTO:-0500
TZNAME:EST
DTSTART:20251102T060000
END:STANDARD
BEGIN:DAYLIGHT
TZOFFSETFROM:-0500
TZOFFSETTO:-0400
TZNAME:EDT
DTSTART:20260308T070000
END:DAYLIGHT
BEGIN:STANDARD
TZOFFSETFROM:-0400
TZOFFSETTO:-0500
TZNAME:EST
DTSTART:20261101T060000
END:STANDARD
END:VTIMEZONE
BEGIN:VTIMEZONE
TZID:UTC
BEGIN:STANDARD
TZOFFSETFROM:+0000
TZOFFSETTO:+0000
TZNAME:UTC
DTSTART:20240101T000000
END:STANDARD
END:VTIMEZONE
BEGIN:VTIMEZONE
TZID:America/Halifax
BEGIN:DAYLIGHT
TZOFFSETFROM:-0400
TZOFFSETTO:-0300
TZNAME:ADT
DTSTART:20240310T060000
END:DAYLIGHT
BEGIN:STANDARD
TZOFFSETFROM:-0300
TZOFFSETTO:-0400
TZNAME:AST
DTSTART:20241103T050000
END:STANDARD
BEGIN:DAYLIGHT
TZOFFSETFROM:-0400
TZOFFSETTO:-0300
TZNAME:ADT
DTSTART:20250309T060000
END:DAYLIGHT
BEGIN:STANDARD
TZOFFSETFROM:-0300
TZOFFSETTO:-0400
TZNAME:AST
DTSTART:20251102T050000
END:STANDARD
BEGIN:DAYLIGHT
TZOFFSETFROM:-0400
TZOFFSETTO:-0300
TZNAME:ADT
DTSTART:20260308T060000
END:DAYLIGHT
BEGIN:STANDARD
TZOFFSETFROM:-0300
TZOFFSETTO:-0400
TZNAME:AST
DTSTART:20261101T050000
END:STANDARD
END:VTIMEZONE
BEGIN:VTIMEZONE
TZID:Europe/Lisbon
BEGIN:DAYLIGHT
TZOFFSETFROM:+0000
TZOFFSETTO:+0100
TZNAME:WEST
DTSTART:20240331T010000
END:DAYLIGHT
BEGIN:STANDARD
TZOFFSETFROM:+0100
TZOFFSETTO:+0000
TZNAME:WET
DTSTART:20241027T010000
END:STANDARD
BEGIN:DAYLIGHT
TZOFFSETFROM:+0000
TZOFFSETTO:+0100
TZNAME:WEST
DTSTART:20250330T010000
END:DAYLIGHT
BEGIN:STANDARD
TZOFFSETFROM:+0100
TZOFFSETTO:+0000
TZNAME:WET
DTSTART:20251026T010000
END:STANDARD
BEGIN:DAYLIGHT
TZOFFSETFROM:+0000
TZOFFSETTO:+0100
TZNAME:WEST
DTSTART:20260329T010000
END:DAYLIGHT
BEGIN:STANDARD
TZOFFSETFROM:+0100
TZOFFSETTO:+0000
TZNAME:WET
DTSTART:20261025T010000
END:STANDARD
END:VTIMEZONE
BEGIN:VTIMEZONE
TZID:Europe/Helsinki
BEGIN:DAYLIGHT
TZOFFSETFROM:+0200
TZOFFSETTO:+0300
TZNAME:EEST
DTSTART:20240331T010000
END:DAYLIGHT
BEGIN:STANDARD
TZOFFSETFROM:+0300
TZOFFSETTO:+0200
TZNAME:EET
DTSTART:20241027T010000
END:STANDARD
BEGIN:DAYLIGHT
TZOFFSETFROM:+0200
TZOFFSETTO:+0300
TZNAME:EEST
DTSTART:20250330T010000
END:DAYLIGHT
BEGIN:STANDARD
TZOFFSETFROM:+0300
TZOFFSETTO:+0200
TZNAME:EET
DTSTART:20251026T010000
END:STANDARD
BEGIN:DAYLIGHT
TZOFFSETFROM:+0200
TZOFFSETTO:+0300
TZNAME:EEST
DTSTART:20260329T010000
END:DAYLIGHT
BEGIN:STANDARD
TZOFFSETFROM:+0300
TZOFFSETTO:+0200
TZNAME:EET
DTSTART:20261025T010000
END:STANDARD
END:VTIMEZONE
BEGIN:VTIMEZONE
TZID:America/New_York
BEGIN:DAYLIGHT
TZOFFSETFROM:-0500
TZOFFSETTO:-0400
TZNAME:EDT
DTSTART:20240310T070000
END:DAYLIGHT
BEGIN:STANDARD
TZOFFSETFROM:-0400
TZOFFSETTO:-0500
TZNAME:EST
DTSTART:20241103T060000
END:STANDARD
BEGIN:DAYLIGHT
TZOFFSETFROM:-0500
TZOFFSETTO:-0400
TZNAME:EDT
DTSTART:20250309T070000
END:DAYLIGHT
BEGIN:STANDARD
TZOFFSETFROM:-0400
TZOFFSETTO:-0500
TZNAME:EST
DTSTART:20251102T060000
END:STANDARD
BEGIN:DAYLIGHT
TZOFFSETFROM:-0500
TZOFFSETTO:-0400
TZNAME:EDT
DTSTART:20260308T070000
END:DAYLIGHT
BEGIN:STANDARD
TZOFFSETFROM:-0400
TZOFFSETTO:-0500
TZNAME:EST
DTSTART:20261101T060000
END:STANDARD
END:VTIMEZONE
BEGIN:VEVENT
DTSTART;TZID=UTC:20251219T210000
DTEND;TZID=UTC:20251219T223000
DTSTAMP:20260423T175047
CREATED:20240823T205207Z
LAST-MODIFIED:20251111T022128Z
UID:60-1766178000-1766183400@alimehedi.com
SUMMARY:Laughing Lassi – The #1 South Asian Stand-Up Comedy Show in New York City!
DESCRIPTION:  \nHeadlining Laughing Lassi for my first 30 minute recording! \n\nLaughing Lassi brings the funniest South Asian comedians from NYC and around the world to one stage.\n\n\n\nLaughing Lassi is New York City’s premier South Asian stand-up comedy show\, featuring the best Desi and Indian-American comedians from NYC and beyond. \nAs featured in TimeOut NYC\, The New Yorker\, and India Tribune\, this monthly comedy event has become a must-see cultural experience — a place where laughter meets identity\, storytelling\, and community. \n \nWhether you’re South Asian or simply love smart\, diverse humor\, Laughing Lassi promises a night of non-stop laughter and unforgettable energy. Each lineup features top comedians who have performed on Comedy Central\, Netflix\, and major festivals around the world. \n📅 When: Doors open at 8:30 PM | Show starts 9:00 PM sharp (no “Brown Time” here!)\n📍 Where: Midtown Manhattan – Convenient NYC location\n🍸 Venue Policy: 2-drink minimum (alcoholic & non-alcoholic options available) \nJoin hundreds of fans who’ve made Laughing Lassi a monthly tradition for celebrating South Asian talent and NYC comedy. \nThe show is in English\, welcoming audiences of all backgrounds. Perfect for a night out with friends\, family\, or coworkers. \n🎟️ Tickets: Shows sell out fast — [grab yours now →]\n💬 Follow Us: @LaughingLassi\n \n🚨 Important Information\n\nLineups are subject to change due to last-minute cancellations.\nTickets cover only the main show (9:00 PM – 10:30 PM). The after-party is optional and free for attendees based on audience interest – please email us for details.\nRefunds available up to 24 hours before the event; no refunds on the day of or after the show.\n\nJoin us at Laughing Lassi to celebrate South Asian talent and experience a comedy show like no other. Don’t miss your chance to be part of NYC’s most talked-about South Asian comedy event.
URL:https://alimehedi.com/event/laughing-lassi-the-best-desi-standup-comedy-show-in-nyc/
LOCATION:Broadway Comedy Club\, 318 W 53rd St\, New York\, NY\, 10019\, United States
ATTACH;FMTTYPE=image/png:https://alimehedi.com/wp-content/uploads/2024/08/My-Post-copy-copy-copy-11.png
ORGANIZER;CN="Laughing Lassi":MAILTO:LaughingLassi@gmail.com
END:VEVENT
BEGIN:VEVENT
DTSTART;TZID=America/New_York:20251019T190000
DTEND;TZID=America/New_York:20251019T210000
DTSTAMP:20260423T175047
CREATED:20250729T164352Z
LAST-MODIFIED:20250729T164657Z
UID:384-1760900400-1760907600@alimehedi.com
SUMMARY:Bangladeshi Unplugged\, a standup comedy show and Networking Event!
DESCRIPTION:Bangladeshi Unplugged: Adda\, Ambition\, and Laughter\n🎤 Stand-Up Comedy • 🎱 Games • 🤝 Networking • 🇧🇩 100% Bangladeshi Vibes \nRedefining what it means to be Bangladeshi in America. \nForget the tired stereotypes—Bangladeshis are not just driving Ubers or working behind kitchen doors. We’re writing scripts\, building startups\, performing on stage\, directing films\, leading teams\, and reshaping industries. We are artists\, engineers\, founders\, dreamers—and we’re just getting started. \nBangladeshi Unplugged is more than a comedy show. It’s a bold\, high-energy gathering of Bangladeshi professionals\, entrepreneurs\, and creatives—a space where we connect\, laugh\, and share our stories without filters. Featuring some of the sharpest Bangladeshi-American comedians\, this night blends stand-up with networking and classic adda. \nThis special event is curated and hosted by New York-based stand-up comedian and actor Ali Mehedi\, the creator of two previously sold-out all-Bangladeshi stand-up comedy shows. After a successful run at the New York Comedy Festival\, Ali brings back this powerful celebration of community and comedy—with a fresh twist focused on Bangladeshi creators and entrepreneurs. \nWhether you’re building your career\, launching your next venture\, or just looking to connect with other ambitious Bangladeshis in NYC—this night is for you. \n🎟️ Join us for an unforgettable evening of laughter\, stories\, and connections.\nTag your crew\, bring your ambition\, and let’s unplug—Bangladeshi style. \nFor future events and shows\, please follow: \n\nhttps://lu.ma/user/nybp\nhttps://www.linkedin.com/groups/13315150/
URL:https://alimehedi.com/event/bangladeshi-unplugged-a-standup-comedy-show-and-networking-event/
LOCATION:Sugar mouse\, 47 3rd Ave\, New York\, NY\, 10003\, United States
ATTACH;FMTTYPE=image/jpeg:https://alimehedi.com/wp-content/uploads/2025/07/470879451_8939227332790328_6071960611155454219_n.jpg
ORGANIZER;CN="Laughing Lassi":MAILTO:LaughingLassi@gmail.com
END:VEVENT
BEGIN:VEVENT
DTSTART;TZID=UTC:20250711T193000
DTEND;TZID=UTC:20250711T203000
DTSTAMP:20260423T175047
CREATED:20250428T094219Z
LAST-MODIFIED:20250602T230029Z
UID:371-1752262200-1752265800@alimehedi.com
SUMMARY:Made In Bangladesh
DESCRIPTION:Growing up in Bikrampur\, Munshiganj\, I never imagined I’d one day be telling jokes on stages around the world. Like many kids in Bangladesh\, my dream was simple: study abroad and get a solid IT job. And I did—moved to Canada\, graduated\, landed a job at IBM. That should’ve been the dream. But it wasn’t.\n\n\n\n\nInstead\, I found myself chasing something else: the mic\, the laughter\, the stories. Somewhere along the way\, the IT guy became the stand-up guy.\n\n\nThis comedy special is about that journey—not just mine\, but the story of millions like me. People navigating identity\, breaking stereotypes\, and finding laughter in struggle. It’s personal\, absurd\, heartfelt\, and brutally honest. \n\n\n\nAfter a sold-out run at the Edinburgh Festival Fringe 2023\, I’m thrilled to bring Made in Bangladesh back home—for the first time ever in Bangladesh! \n\n\n\n Friday\, July 11\, 2025\n 7:30 PM\n Tickets: BDT 500\n bKash (Merchant): 01734478744\nReference: Ali 11 <Your Name>\n\n\n Naveed’s Comedy Club\nHouse 2\, Road 90\, Gulshan-2\, Dhaka-1212\n Call/WhatsApp: +8801720902019
URL:https://alimehedi.com/event/made-in-bangladesh-3/
LOCATION:NY
ATTACH;FMTTYPE=image/jpeg:https://alimehedi.com/wp-content/uploads/2025/04/491741891_572562701992178_7058767275142906779_n.jpg
END:VEVENT
BEGIN:VEVENT
DTSTART;TZID=America/Halifax:20250620T190000
DTEND;TZID=America/Halifax:20250620T203000
DTSTAMP:20260423T175047
CREATED:20250602T230510Z
LAST-MODIFIED:20250602T183746Z
UID:377-1750446000-1750451400@alimehedi.com
SUMMARY:Laughing Lassi - The Best Desi Standup Comedy Show in NYC!
DESCRIPTION:Laughing Lassi is the premier comedy show bringing together the funniest South Asian comedians from New York City and around the globe. As featured in TimeOut NYC\, The New Yorker\, India Tribune\, and the New York Comedy Festival\, this monthly event has become a cultural phenomenon\, consistently selling out every show this year. \nLooking for a night of laughs in NYC? Laughing Lassi offers a unique comedy experience with diverse performers delivering top-tier entertainment. The show is in English and welcomes audiences of all backgrounds\, making it the perfect evening to enjoy with friends\, family\, or coworkers. \nEvent Details:\n\nWhen: Doors open at 6:30 PM\, and the show starts promptly at 7:00 PM (No “Brown Time” here!).\nWhere: Conveniently located in NYC\, with a lively atmosphere to match the laughs.\nVenue Policy: A two-drink minimum applies (non-alcoholic options available).\n\nFollow us on Instagram @LaughingLassi for exclusive highlights\, photos\, and videos from past shows. Stay updated on upcoming performances\, comedian lineups\, and exciting news about the South Asian comedy scene in NYC. \n🎟️ Get Tickets Now: Tickets sell out fast\, so grab yours today and guarantee your seat for a night of non-stop laughter!
URL:https://alimehedi.com/event/laughing-lassi-the-best-desi-standup-comedy-show-in-nyc-3/
LOCATION:Broadway Comedy Club\, 318 W 53rd St\, New York\, NY\, 10019\, United States
ATTACH;FMTTYPE=image/jpeg:https://alimehedi.com/wp-content/uploads/2025/06/476015244_120215893604260520_1346224033159662212_n.jpg
ORGANIZER;CN="Laughing Lassi":MAILTO:LaughingLassi@gmail.com
END:VEVENT
BEGIN:VEVENT
DTSTART;TZID=Europe/Lisbon:20250529T210000
DTEND;TZID=Europe/Lisbon:20250529T220000
DTSTAMP:20260423T175047
CREATED:20250414T023743Z
LAST-MODIFIED:20250414T024044Z
UID:367-1748552400-1748556000@alimehedi.com
SUMMARY:Made in Bangladesh
DESCRIPTION:Hello! \nThis is Ali Mehedi. I’m writing my own show description because\, well\, I don’t have a marketing team. So\, I’ll keep it short. \n \nMade in Bangladesh is my stand-up special—a collection of jokes I’ve built up since I started doing comedy. My material is mostly about my life journey\, and trust me\, it’s an interesting one. Well\, at least to me. \nGrowing up in a small village in Bangladesh\, I never imagined I’d be performing comedy all over the world. My dream was to study abroad and maybe land a job in IT—which I actually did. I moved to Canada\, became a citizen\, finished school\, and even got a job at IBM. That’s when I realized… that wasn’t it. I know—what kind of Third World to First World privilege is this? But here I am\, living my new dream: being a funny guy. \nNothing about my journey is stereotypical. There are millions like me—people who\, despite their struggles\, are living incredible lives\, breaking stereotypes\, defying norms\, and crossing cultural boundaries. Because honestly\, that’s what makes life fun. \nThis special is part of my Europe tour and covers everything—the highs\, the lows\, the fun\, the messy\, the dirty 😉 and the downright absurd. \nThat said\, I have one simple goal with this special: that you laugh and have a great time—preferably while sipping on a drink. \nPlease get your ticket here: https://thecomedyclubhouse.es/events/ali-mehedi-made-in-bangladesh-stand-up-comedy-solo-in-english-sunday/ \nHope to see you there! \nCheers\,\nAli
URL:https://alimehedi.com/event/made-in-bangladesh-2/
LOCATION:Selva Comedy Cafe\, 112 A Rua Luís de Camões\, Lisboa\, 1300-361\, Portugal
ATTACH;FMTTYPE=image/png:https://alimehedi.com/wp-content/uploads/2025/04/Made-in-Bangladesh-Banner-1.png
END:VEVENT
BEGIN:VEVENT
DTSTART;TZID=Europe/Helsinki:20250525T173000
DTEND;TZID=Europe/Helsinki:20250525T183000
DTSTAMP:20260423T175047
CREATED:20250414T023439Z
LAST-MODIFIED:20250414T023955Z
UID:362-1748194200-1748197800@alimehedi.com
SUMMARY:Made in Bangladesh
DESCRIPTION:Hello! \nThis is Ali Mehedi. I’m writing my own show description because\, well\, I don’t have a marketing team. So\, I’ll keep it short. \n \nMade in Bangladesh is my stand-up special—a collection of jokes I’ve built up since I started doing comedy. My material is mostly about my life journey\, and trust me\, it’s an interesting one. Well\, at least to me. \nGrowing up in a small village in Bangladesh\, I never imagined I’d be performing comedy all over the world. My dream was to study abroad and maybe land a job in IT—which I actually did. I moved to Canada\, became a citizen\, finished school\, and even got a job at IBM. That’s when I realized… that wasn’t it. I know—what kind of Third World to First World privilege is this? But here I am\, living my new dream: being a funny guy. \nNothing about my journey is stereotypical. There are millions like me—people who\, despite their struggles\, are living incredible lives\, breaking stereotypes\, defying norms\, and crossing cultural boundaries. Because honestly\, that’s what makes life fun. \nThis special is part of my Europe tour and covers everything—the highs\, the lows\, the fun\, the messy\, the dirty 😉 and the downright absurd. \nThat said\, I have one simple goal with this special: that you laugh and have a great time—preferably while sipping on a drink. \nPlease get your ticket here: https://thecomedyclubhouse.es/events/ali-mehedi-made-in-bangladesh-stand-up-comedy-solo-in-english-sunday/ \nHope to see you there! \nCheers\,\nAli
URL:https://alimehedi.com/event/made-in-bangladesh/
LOCATION:The Comedy Clubhouse\, Carrer dels Canvis Nous\, 10\, Ciutat Vella\, Barcelona\, 08003\, Spain
ATTACH;FMTTYPE=image/png:https://alimehedi.com/wp-content/uploads/2025/04/Made-in-Bangladesh-Banner-1.png
END:VEVENT
BEGIN:VEVENT
DTSTART;TZID=America/New_York:20250425T190000
DTEND;TZID=America/New_York:20250425T203000
DTSTAMP:20260423T175047
CREATED:20250414T022719Z
LAST-MODIFIED:20250414T022935Z
UID:359-1745607600-1745613000@alimehedi.com
SUMMARY:Laughing Lassi presented by Ali Mehedi – The Best Desi Standup Comedy Show in NYC!
DESCRIPTION:Laughing Lassi is the best South Asian comedy show in the United States! We sold out almost every show since 2022. \n \nCome watch some of the funniest South Asian American comedians from New York City and all over the world! Join us at the after-party to mingle and network with other like minded people. The location of the after-party is announced during the show. \nPlease see photos and videos from our last few shows below and on our Instagram page: @LaughingLassi. Although the lineup is mostly South Asian Comedians\, the show is in English and is meant for everyone\, not just for South Asian audience. \nDoors open at 6:30\, show starts at 7:00 PM sharp (NOT BROWN TIME). After-party from 8:45 PM until Midnight! \nGET YOUR TICKETS NOW! \nNote that there is a 2 drinks minimum at the venue (not including food item). Non alcoholic beverages are available. The lineup is subject to change as sometime we have last minute cancellations from comedians. Refund is only processed 24 hours before the show. There is no refund on the day of the show and after the show.
URL:https://alimehedi.com/event/laughing-lassi-presented-by-ali-mehedi-the-best-desi-standup-comedy-show-in-nyc-2/
LOCATION:Broadway Comedy Club\, 318 W 53rd St\, New York\, NY\, 10019\, United States
ATTACH;FMTTYPE=image/jpeg:https://alimehedi.com/wp-content/uploads/2024/09/438237319_120210153029060520_8348803107465197786_n-1.jpg
END:VEVENT
BEGIN:VEVENT
DTSTART;TZID=America/Halifax:20250328T190000
DTEND;TZID=America/Halifax:20250328T203000
DTSTAMP:20260423T175047
CREATED:20240929T010652Z
LAST-MODIFIED:20250223T020038Z
UID:269-1743188400-1743193800@alimehedi.com
SUMMARY:Laughing Lassi presented by Ali Mehedi – The Best Desi Standup Comedy Show in NYC!
DESCRIPTION:Laughing Lassi is the best South Asian comedy show in the United States! We sold out almost every show since 2022. \n \nCome watch some of the funniest South Asian American comedians from New York City and all over the world! Join us at the after-party to mingle and network with other like minded people. The location of the after-party is announced during the show. \nPlease see photos and videos from our last few shows below and on our Instagram page: @LaughingLassi. Although the lineup is mostly South Asian Comedians\, the show is in English and is meant for everyone\, not just for South Asian audience. \nDoors open at 6:30\, show starts at 7:00 PM sharp (NOT BROWN TIME). After-party from 8:45 PM until Midnight! \nGET YOUR TICKETS NOW! \nNote that there is a 2 drinks minimum at the venue (not including food item). Non alcoholic beverages are available. The lineup is subject to change as sometime we have last minute cancellations from comedians. Refund is only processed 24 hours before the show. There is no refund on the day of the show and after the show.
URL:https://alimehedi.com/event/laughing-lassi-presented-by-ali-mehedi-the-best-desi-standup-comedy-show-in-nyc/
LOCATION:Broadway Comedy Club\, 318 W 53rd St\, New York\, NY\, 10019\, United States
ATTACH;FMTTYPE=image/jpeg:https://alimehedi.com/wp-content/uploads/2024/09/438237319_120210153029060520_8348803107465197786_n-1.jpg
ORGANIZER;CN="Laughing Lassi":MAILTO:LaughingLassi@gmail.com
END:VEVENT
BEGIN:VEVENT
DTSTART;TZID=UTC:20240927T190000
DTEND;TZID=UTC:20240927T203000
DTSTAMP:20260423T175047
CREATED:20240906T220421Z
LAST-MODIFIED:20240927T010143Z
UID:120-1727463600-1727469000@alimehedi.com
SUMMARY:Laughing Lassi – The Best Desi Standup Comedy Show in NYC!
DESCRIPTION:Laughing Lassi is the best South Asian comedy show in the United States! We sold out almost every show since 2022. We are scheduled to do 12 more shows in 2024! \n \nCome watch some of the funniest South Asian American comedians from New York City and all over the world! Join us at the after-party to mingle and network with other like minded people. The location of the after-party is announced during the show. \nPlease see photos and videos from our last few shows below and on our Instagram page: @LaughingLassi. Although the lineup is mostly South Asian Comedians\, the show is in English and is meant for everyone\, not just for South Asian audience. \nDoors open at 6:30\, show starts at 7:00 PM sharp (NOT BROWN TIME). After-party from 8:45 PM until Midnight! \nGET YOUR TICKETS NOW! \nNote that there is a 2 drinks minimum at the venue (not including food item). Non alcoholic beverages are available. The lineup is subject to change as sometime we have last minute cancellations from comedians. Refund is only processed 24 hours before the show. There is no refund on the day of the show and after the show.
URL:https://alimehedi.com/event/laughing-lassi-the-best-desi-standup-comedy-show-in-nyc-2/
LOCATION:NY
ATTACH;FMTTYPE=image/jpeg:https://alimehedi.com/wp-content/uploads/2024/09/438237319_120210153029060520_8348803107465197786_n-1.jpg
ORGANIZER;CN="Laughing Lassi":MAILTO:LaughingLassi@gmail.com
END:VEVENT
END:VCALENDAR